BEGIN:VCALENDAR
VERSION:2.0
PRODID:-//Les ateliers de l&#039;accordéon diatonique - ECPv6.15.20//NONSGML v1.0//EN
CALSCALE:GREGORIAN
METHOD:PUBLISH
X-ORIGINAL-URL:https://lesateliersdelaccordeon.be
X-WR-CALDESC:Évènements pour Les ateliers de l&#039;accordéon diatonique
REFRESH-INTERVAL;VALUE=DURATION:PT1H
X-Robots-Tag:noindex
X-PUBLISHED-TTL:PT1H
BEGIN:VTIMEZONE
TZID:Europe/Brussels
BEGIN:DAYLIGHT
TZOFFSETFROM:+0100
TZOFFSETTO:+0200
TZNAME:CEST
DTSTART:20230326T010000
END:DAYLIGHT
BEGIN:STANDARD
TZOFFSETFROM:+0200
TZOFFSETTO:+0100
TZNAME:CET
DTSTART:20231029T010000
END:STANDARD
BEGIN:DAYLIGHT
TZOFFSETFROM:+0100
TZOFFSETTO:+0200
TZNAME:CEST
DTSTART:20240331T010000
END:DAYLIGHT
BEGIN:STANDARD
TZOFFSETFROM:+0200
TZOFFSETTO:+0100
TZNAME:CET
DTSTART:20241027T010000
END:STANDARD
BEGIN:DAYLIGHT
TZOFFSETFROM:+0100
TZOFFSETTO:+0200
TZNAME:CEST
DTSTART:20250330T010000
END:DAYLIGHT
BEGIN:STANDARD
TZOFFSETFROM:+0200
TZOFFSETTO:+0100
TZNAME:CET
DTSTART:20251026T010000
END:STANDARD
END:VTIMEZONE
BEGIN:VEVENT
DTSTART;TZID=Europe/Brussels:20240804T120000
DTEND;TZID=Europe/Brussels:20240804T163000
DTSTAMP:20260424T212052
CREATED:20240527T133256Z
LAST-MODIFIED:20240527T133256Z
UID:31063-1722772800-1722789000@lesateliersdelaccordeon.be
SUMMARY:Folk à Donf Duo - Musée du train - Treignes
DESCRIPTION:Animation musicale de Folk à Donf au musée du Train à Treignes.\nPlus d’information sur le musée et la fête : https://site.cfv3v.eu/site/musee/
URL:https://lesateliersdelaccordeon.be/event/folk-a-donf-duo-musee-du-train-treignes/
LOCATION:Musée du chemin de fer\, Place de la gare 101\, Treignes\, Belgique
CATEGORIES:Concert
ATTACH;FMTTYPE=image/jpeg:https://lesateliersdelaccordeon.be/wp-content/uploads/2022/01/242365502_253650530097975_3778041405333345072_n_002.jpg
END:VEVENT
END:VCALENDAR