BEGIN:VCALENDAR
VERSION:2.0
PRODID:-//Les ateliers de l&#039;accordéon diatonique - ECPv6.15.20//NONSGML v1.0//EN
CALSCALE:GREGORIAN
METHOD:PUBLISH
X-ORIGINAL-URL:https://lesateliersdelaccordeon.be
X-WR-CALDESC:Évènements pour Les ateliers de l&#039;accordéon diatonique
REFRESH-INTERVAL;VALUE=DURATION:PT1H
X-Robots-Tag:noindex
X-PUBLISHED-TTL:PT1H
BEGIN:VTIMEZONE
TZID:Europe/Brussels
BEGIN:DAYLIGHT
TZOFFSETFROM:+0100
TZOFFSETTO:+0200
TZNAME:CEST
DTSTART:20230326T010000
END:DAYLIGHT
BEGIN:STANDARD
TZOFFSETFROM:+0200
TZOFFSETTO:+0100
TZNAME:CET
DTSTART:20231029T010000
END:STANDARD
BEGIN:DAYLIGHT
TZOFFSETFROM:+0100
TZOFFSETTO:+0200
TZNAME:CEST
DTSTART:20240331T010000
END:DAYLIGHT
BEGIN:STANDARD
TZOFFSETFROM:+0200
TZOFFSETTO:+0100
TZNAME:CET
DTSTART:20241027T010000
END:STANDARD
BEGIN:DAYLIGHT
TZOFFSETFROM:+0100
TZOFFSETTO:+0200
TZNAME:CEST
DTSTART:20250330T010000
END:DAYLIGHT
BEGIN:STANDARD
TZOFFSETFROM:+0200
TZOFFSETTO:+0100
TZNAME:CET
DTSTART:20251026T010000
END:STANDARD
END:VTIMEZONE
BEGIN:VEVENT
DTSTART;TZID=Europe/Brussels:20241017T200000
DTEND;TZID=Europe/Brussels:20241017T220000
DTSTAMP:20260424T180021
CREATED:20240904T094504Z
LAST-MODIFIED:20241005T123208Z
UID:31114-1729195200-1729202400@lesateliersdelaccordeon.be
SUMMARY:Live "Le monde est un Village" avec Marinette Bonnert
DESCRIPTION:Les lives du Monde est un Village sont des concerts…\nEt pour celui-ci\, le répertoire sera construit autour de la musique wallonne\, ma passion… \nSi vous voulez être des nôtres et voir le concert en live (et pas à la radio)\, pensez réserver!\nVoici le lien : Live – Le monde est un Village avec Marinnette Bonnert et invités \nAvec : Marinette Bonnert (accordéon diatonique)\, Gabriel Lenoir (violon)\, Michel Jacqmain (cistre)\, Pierre Challe (accordéon diatonique)\, Aurélie Giet (clarinette\, chant)
URL:https://lesateliersdelaccordeon.be/event/live-le-monde-est-un-village-avec-marinette-bonnert/
LOCATION:Centre culturel de Ciney\, Place Roi Baudouin 1\, Ciney\, Belgique
CATEGORIES:Concert
ATTACH;FMTTYPE=image/jpeg:https://lesateliersdelaccordeon.be/wp-content/uploads/2024/09/LIVE_Marinette_Ciney_Wallonie_2.jpg
END:VEVENT
END:VCALENDAR