BEGIN:VCALENDAR
VERSION:2.0
PRODID:-//Les ateliers de l&#039;accordéon diatonique - ECPv6.15.20//NONSGML v1.0//EN
CALSCALE:GREGORIAN
METHOD:PUBLISH
X-ORIGINAL-URL:https://lesateliersdelaccordeon.be
X-WR-CALDESC:Évènements pour Les ateliers de l&#039;accordéon diatonique
REFRESH-INTERVAL;VALUE=DURATION:PT1H
X-Robots-Tag:noindex
X-PUBLISHED-TTL:PT1H
BEGIN:VTIMEZONE
TZID:Europe/Brussels
BEGIN:DAYLIGHT
TZOFFSETFROM:+0100
TZOFFSETTO:+0200
TZNAME:CEST
DTSTART:20230326T010000
END:DAYLIGHT
BEGIN:STANDARD
TZOFFSETFROM:+0200
TZOFFSETTO:+0100
TZNAME:CET
DTSTART:20231029T010000
END:STANDARD
BEGIN:DAYLIGHT
TZOFFSETFROM:+0100
TZOFFSETTO:+0200
TZNAME:CEST
DTSTART:20240331T010000
END:DAYLIGHT
BEGIN:STANDARD
TZOFFSETFROM:+0200
TZOFFSETTO:+0100
TZNAME:CET
DTSTART:20241027T010000
END:STANDARD
BEGIN:DAYLIGHT
TZOFFSETFROM:+0100
TZOFFSETTO:+0200
TZNAME:CEST
DTSTART:20250330T010000
END:DAYLIGHT
BEGIN:STANDARD
TZOFFSETFROM:+0200
TZOFFSETTO:+0100
TZNAME:CET
DTSTART:20251026T010000
END:STANDARD
END:VTIMEZONE
BEGIN:VEVENT
DTSTART;VALUE=DATE:20241103
DTEND;VALUE=DATE:20241104
DTSTAMP:20260424T161331
CREATED:20240919T215455Z
LAST-MODIFIED:20240919T215455Z
UID:31149-1730592000-1730678399@lesateliersdelaccordeon.be
SUMMARY:Calamalys - Accordéons-nous! - Centre culturel de Trois-Ponts
DESCRIPTION:Une chouette initiative du Centre Culturel de Trois-Ponts\n« Voici 12h dédiées à l’accordéon… aux accordéons ! Que diriez-vous de prendre le temps de s’y essayer et d’en déboutonner\, d’en écouter souffler\, tricoter\, s’accorder avec amour à la chanson\, d’en explorer l’histoire et les multiples incarnations\, d’en laisser nous emporter dans la danse. Vivons cette (re)découverte en compagnie de celles et ceux qu’il(s) passionne(nt) ! »\nEt nous serons de la partie avec Calamalys pour un bal folk!! \nTout le programme est repris ici : https://www.ccstp.be/agenda/accordeons-nous-initiation/
URL:https://lesateliersdelaccordeon.be/event/calamalys-accordeons-nous-centre-culturel-de-trois-ponts/
LOCATION:Espace culturel de Trois-Ponts\, Rue Traverse 9\, Trois-Ponts\, Belgique
CATEGORIES:Bal,Concert,Stage
ATTACH;FMTTYPE=image/jpeg:https://lesateliersdelaccordeon.be/wp-content/uploads/2022/01/calamalys-groupe-musique-clarinette-accordeon-aurelie-giet-danse-wallone-belgique-marinette-bonnert-les-ateliers-de-l-accordeon-1.jpg
END:VEVENT
END:VCALENDAR