BEGIN:VCALENDAR
VERSION:2.0
PRODID:-//Les ateliers de l&#039;accordéon diatonique - ECPv6.15.20//NONSGML v1.0//EN
CALSCALE:GREGORIAN
METHOD:PUBLISH
X-WR-CALNAME:Les ateliers de l&#039;accordéon diatonique
X-ORIGINAL-URL:https://lesateliersdelaccordeon.be
X-WR-CALDESC:Évènements pour Les ateliers de l&#039;accordéon diatonique
REFRESH-INTERVAL;VALUE=DURATION:PT1H
X-Robots-Tag:noindex
X-PUBLISHED-TTL:PT1H
BEGIN:VTIMEZONE
TZID:Europe/Brussels
BEGIN:DAYLIGHT
TZOFFSETFROM:+0100
TZOFFSETTO:+0200
TZNAME:CEST
DTSTART:20230326T010000
END:DAYLIGHT
BEGIN:STANDARD
TZOFFSETFROM:+0200
TZOFFSETTO:+0100
TZNAME:CET
DTSTART:20231029T010000
END:STANDARD
BEGIN:DAYLIGHT
TZOFFSETFROM:+0100
TZOFFSETTO:+0200
TZNAME:CEST
DTSTART:20240331T010000
END:DAYLIGHT
BEGIN:STANDARD
TZOFFSETFROM:+0200
TZOFFSETTO:+0100
TZNAME:CET
DTSTART:20241027T010000
END:STANDARD
BEGIN:DAYLIGHT
TZOFFSETFROM:+0100
TZOFFSETTO:+0200
TZNAME:CEST
DTSTART:20250330T010000
END:DAYLIGHT
BEGIN:STANDARD
TZOFFSETFROM:+0200
TZOFFSETTO:+0100
TZNAME:CET
DTSTART:20251026T010000
END:STANDARD
END:VTIMEZONE
BEGIN:VEVENT
DTSTART;VALUE=DATE:20240714
DTEND;VALUE=DATE:20240720
DTSTAMP:20260425T211932
CREATED:20240314T084544Z
LAST-MODIFIED:20240314T084544Z
UID:31009-1720915200-1721433599@lesateliersdelaccordeon.be
SUMMARY:Stage d'accordéon - Festival Glatt und Verkehrt - Stifft Göttweig (Autriche)
DESCRIPTION:Et c’est reparti pour un tour dans ce magnifique lieu!\nCette année\, le stage s’adresse aux accordéonistes mais aussi à tous les musiciens qui veulent jouer de la musique de bal folk!\nLes inscriptions sont maintenant! \nInformations : https://www.glattundverkehrt.at/en/musikwerkstatt \n\nMit ihrer pädagogischen Meisterschaft und ihrer gewinnenden Persönlichkeit bereichert Marinette das Werkstatt-Team seit vielen Jahren\, sei es beim Tanz im Plenum\, vertiefend im Unterricht für diatonisches Akkordeon oder als einfühlsame Vermittlerin bei allen mitgebrachten Instrumenten. Bereits mit zwölf Jahren entdeckte die gebürtige Belgierin ihr Interesse an traditioneller Tanzmusik. Beim wallonischen Tanzmusikmeister Louis Spagna studierte sie das Akkordeonspiel und die enge Beziehung zwischen Tanzenden und Musizierenden. Ihr Repertoire umfasst Melodien aus Belgien und Frankreich\, Paartänze (Mazurka\, Scottish\, Valse à 5 temps) oder Gruppentänze (Mixer\, Kreistanz). Marinette ist übrigens auch diplomierte Rhythmikerin. Als Musikerin verfügt Marinette Bonnert über einen ausgeprägten Individualstil: Sie spielt einen einzigen Ton und sofort wissen alle\, dass es ihr Ton ist. Zu erleben ist dies auch bei den Ensembles „21 BOuTONS“ Musikgruppe“ oder „Calamalys“. \nIhr Kurs ist nicht nur für die angegebenen Instrumente\, sondern für alle Instrumentalist:innen offen.
URL:https://lesateliersdelaccordeon.be/event/stage-daccordeon-festival-glatt-und-verkehrt-stifft-gottweig-autriche/
LOCATION:Stift Göttweig\, Stift Göttweig 1\, Furth\, Autriche
CATEGORIES:Concert,Stage
ATTACH;FMTTYPE=image/jpeg:https://lesateliersdelaccordeon.be/wp-content/uploads/2022/01/Marinette.jpg
END:VEVENT
END:VCALENDAR