BEGIN:VCALENDAR
VERSION:2.0
PRODID:-//Les ateliers de l&#039;accordéon diatonique - ECPv6.15.20//NONSGML v1.0//EN
CALSCALE:GREGORIAN
METHOD:PUBLISH
X-WR-CALNAME:Les ateliers de l&#039;accordéon diatonique
X-ORIGINAL-URL:https://lesateliersdelaccordeon.be
X-WR-CALDESC:Évènements pour Les ateliers de l&#039;accordéon diatonique
REFRESH-INTERVAL;VALUE=DURATION:PT1H
X-Robots-Tag:noindex
X-PUBLISHED-TTL:PT1H
BEGIN:VTIMEZONE
TZID:Europe/Brussels
BEGIN:DAYLIGHT
TZOFFSETFROM:+0100
TZOFFSETTO:+0200
TZNAME:CEST
DTSTART:20240331T010000
END:DAYLIGHT
BEGIN:STANDARD
TZOFFSETFROM:+0200
TZOFFSETTO:+0100
TZNAME:CET
DTSTART:20241027T010000
END:STANDARD
BEGIN:DAYLIGHT
TZOFFSETFROM:+0100
TZOFFSETTO:+0200
TZNAME:CEST
DTSTART:20250330T010000
END:DAYLIGHT
BEGIN:STANDARD
TZOFFSETFROM:+0200
TZOFFSETTO:+0100
TZNAME:CET
DTSTART:20251026T010000
END:STANDARD
BEGIN:DAYLIGHT
TZOFFSETFROM:+0100
TZOFFSETTO:+0200
TZNAME:CEST
DTSTART:20260329T010000
END:DAYLIGHT
BEGIN:STANDARD
TZOFFSETFROM:+0200
TZOFFSETTO:+0100
TZNAME:CET
DTSTART:20261025T010000
END:STANDARD
END:VTIMEZONE
BEGIN:VEVENT
DTSTART;TZID=Europe/Brussels:20250622T120000
DTEND;TZID=Europe/Brussels:20250622T150000
DTSTAMP:20260424T043307
CREATED:20250507T204552Z
LAST-MODIFIED:20250507T204552Z
UID:31898-1750593600-1750604400@lesateliersdelaccordeon.be
SUMMARY:Pierre et Marinette - MIM - Bruxelles
DESCRIPTION:Chouette journée au MIM. \n\n\nEn juin 2025\, le MIM fête ses 25 ans d’installation dans les anciens bâtiments Old England au Mont des Arts. Un anniversaire à ne pas manquer\, d’autant plus que l’entrée sera gratuite !\nEn collaboration avec la Fête de la Musique\, venez participer à toutes sortes d’activités : concerts  pour tous publics\, musique live dans les salles d’exposition\, mini-visites guidées dans les salles d’exposition et les coulisses du musée\, ateliers percussions\, exposition photos et diffusion de films documentaires produits par les équipes du MIM sur la musique traditionnelle en Belgique. \nNous serons là pour vous jouer de l’accordéon diatonique. \nPlus d’informations : https://www.mim.be/fr/activity/le-mim-fete-ses-25-ans-au-mont-des-arts
URL:https://lesateliersdelaccordeon.be/event/pierre-et-marinette-mim-bruxelles/
LOCATION:MIM\, Montagne de la Cour 2\, Bruxelles\, Belgium
CATEGORIES:Concert
ATTACH;FMTTYPE=image/jpeg:https://lesateliersdelaccordeon.be/wp-content/uploads/2022/01/242365502_253650530097975_3778041405333345072_n_002.jpg
END:VEVENT
END:VCALENDAR