BEGIN:VCALENDAR
VERSION:2.0
PRODID:-//Les ateliers de l&#039;accordéon diatonique - ECPv6.15.20//NONSGML v1.0//EN
CALSCALE:GREGORIAN
METHOD:PUBLISH
X-WR-CALNAME:Les ateliers de l&#039;accordéon diatonique
X-ORIGINAL-URL:https://lesateliersdelaccordeon.be
X-WR-CALDESC:Évènements pour Les ateliers de l&#039;accordéon diatonique
REFRESH-INTERVAL;VALUE=DURATION:PT1H
X-Robots-Tag:noindex
X-PUBLISHED-TTL:PT1H
BEGIN:VTIMEZONE
TZID:Europe/Brussels
BEGIN:DAYLIGHT
TZOFFSETFROM:+0100
TZOFFSETTO:+0200
TZNAME:CEST
DTSTART:20240331T010000
END:DAYLIGHT
BEGIN:STANDARD
TZOFFSETFROM:+0200
TZOFFSETTO:+0100
TZNAME:CET
DTSTART:20241027T010000
END:STANDARD
BEGIN:DAYLIGHT
TZOFFSETFROM:+0100
TZOFFSETTO:+0200
TZNAME:CEST
DTSTART:20250330T010000
END:DAYLIGHT
BEGIN:STANDARD
TZOFFSETFROM:+0200
TZOFFSETTO:+0100
TZNAME:CET
DTSTART:20251026T010000
END:STANDARD
BEGIN:DAYLIGHT
TZOFFSETFROM:+0100
TZOFFSETTO:+0200
TZNAME:CEST
DTSTART:20260329T010000
END:DAYLIGHT
BEGIN:STANDARD
TZOFFSETFROM:+0200
TZOFFSETTO:+0100
TZNAME:CET
DTSTART:20261025T010000
END:STANDARD
END:VTIMEZONE
BEGIN:VEVENT
DTSTART;TZID=Europe/Brussels:20250912T210000
DTEND;TZID=Europe/Brussels:20250912T233000
DTSTAMP:20260423T234304
CREATED:20250506T212838Z
LAST-MODIFIED:20250506T212928Z
UID:31893-1757710800-1757719800@lesateliersdelaccordeon.be
SUMMARY:Happy Wallonie - Le concert et le boeuf - Folk Festival de Marsinne
DESCRIPTION:Et c’est parti pour un super concert de musique wallonne avec\nMarinette Bonnert – accordéons diatonique\nPierre Challe – accordéon diatonique\nAurélie Giet – clarinette\, voix\nMichel Jacqmain – guitare\nGabriel Lenoir – vilon\, voix \nLe concert sera suivi par un boeuf de musique wallonne! Prend ton instrument avec toi!! \nPlus d’informations sur le site du festival de Marsinne : https://www.folkfestivalmarsinne.be/
URL:https://lesateliersdelaccordeon.be/event/happy-wallonie-le-concert-et-le-boeuf-folk-festival-de-marsinne/
LOCATION:Folk Festival de Marsinne\, rue de la Médaille 17\, Couthuin-Héron\, 4218\, Belgique
CATEGORIES:Concert
ATTACH;FMTTYPE=image/jpeg:https://lesateliersdelaccordeon.be/wp-content/uploads/2025/05/03-24-10-17-Ciney-MARINETTE-BONNERT.jpg
END:VEVENT
END:VCALENDAR