BEGIN:VCALENDAR
VERSION:2.0
PRODID:-//Les ateliers de l&#039;accordéon diatonique - ECPv6.15.20//NONSGML v1.0//EN
CALSCALE:GREGORIAN
METHOD:PUBLISH
X-ORIGINAL-URL:https://lesateliersdelaccordeon.be
X-WR-CALDESC:Évènements pour Les ateliers de l&#039;accordéon diatonique
REFRESH-INTERVAL;VALUE=DURATION:PT1H
X-Robots-Tag:noindex
X-PUBLISHED-TTL:PT1H
BEGIN:VTIMEZONE
TZID:Europe/Brussels
BEGIN:DAYLIGHT
TZOFFSETFROM:+0100
TZOFFSETTO:+0200
TZNAME:CEST
DTSTART:20220327T010000
END:DAYLIGHT
BEGIN:STANDARD
TZOFFSETFROM:+0200
TZOFFSETTO:+0100
TZNAME:CET
DTSTART:20221030T010000
END:STANDARD
BEGIN:DAYLIGHT
TZOFFSETFROM:+0100
TZOFFSETTO:+0200
TZNAME:CEST
DTSTART:20230326T010000
END:DAYLIGHT
BEGIN:STANDARD
TZOFFSETFROM:+0200
TZOFFSETTO:+0100
TZNAME:CET
DTSTART:20231029T010000
END:STANDARD
BEGIN:DAYLIGHT
TZOFFSETFROM:+0100
TZOFFSETTO:+0200
TZNAME:CEST
DTSTART:20240331T010000
END:DAYLIGHT
BEGIN:STANDARD
TZOFFSETFROM:+0200
TZOFFSETTO:+0100
TZNAME:CET
DTSTART:20241027T010000
END:STANDARD
END:VTIMEZONE
BEGIN:VEVENT
DTSTART;TZID=Europe/Brussels:20230519T190000
DTEND;TZID=Europe/Brussels:20230519T233000
DTSTAMP:20260422T130653
CREATED:20230404T095115Z
LAST-MODIFIED:20230404T095115Z
UID:30567-1684522800-1684539000@lesateliersdelaccordeon.be
SUMMARY:Les Ateliers de l'Accordéon - L'accordéon\, moi j'aime! - Tournai
DESCRIPTION:Les Ateliers de l’Accordéon ont un stand à la nuit de l’Accordéon à Tournai.\nOn peut vous expliquer ce que nous faisons\, et papoter autour de l’accordéon. \nPassez nous dire bonjour\, et venez danser un bal à côté de notre stand! \nhttps://www.accordeontournai.be/2023/03/31/les-28e-rencontres-daccordeonistes/
URL:https://lesateliersdelaccordeon.be/event/les-ateliers-de-laccordeon-laccordeon-moi-jaime-tournai/
LOCATION:Quartier Saint-Pierre\, Tournai\, Belgique
CATEGORIES:Festival
ATTACH;FMTTYPE=image/jpeg:https://lesateliersdelaccordeon.be/wp-content/uploads/2022/01/location-accordeon-ateliers-de-l-accordeon-belgique-acoz-hainaut.jpg
END:VEVENT
END:VCALENDAR