BEGIN:VCALENDAR
VERSION:2.0
PRODID:-//Les ateliers de l&#039;accordéon diatonique - ECPv6.15.17//NONSGML v1.0//EN
CALSCALE:GREGORIAN
METHOD:PUBLISH
X-WR-CALNAME:Les ateliers de l&#039;accordéon diatonique
X-ORIGINAL-URL:https://lesateliersdelaccordeon.be
X-WR-CALDESC:Évènements pour Les ateliers de l&#039;accordéon diatonique
REFRESH-INTERVAL;VALUE=DURATION:PT1H
X-Robots-Tag:noindex
X-PUBLISHED-TTL:PT1H
BEGIN:VTIMEZONE
TZID:Europe/Brussels
BEGIN:DAYLIGHT
TZOFFSETFROM:+0100
TZOFFSETTO:+0200
TZNAME:CEST
DTSTART:20220327T010000
END:DAYLIGHT
BEGIN:STANDARD
TZOFFSETFROM:+0200
TZOFFSETTO:+0100
TZNAME:CET
DTSTART:20221030T010000
END:STANDARD
BEGIN:DAYLIGHT
TZOFFSETFROM:+0100
TZOFFSETTO:+0200
TZNAME:CEST
DTSTART:20230326T010000
END:DAYLIGHT
BEGIN:STANDARD
TZOFFSETFROM:+0200
TZOFFSETTO:+0100
TZNAME:CET
DTSTART:20231029T010000
END:STANDARD
BEGIN:DAYLIGHT
TZOFFSETFROM:+0100
TZOFFSETTO:+0200
TZNAME:CEST
DTSTART:20240331T010000
END:DAYLIGHT
BEGIN:STANDARD
TZOFFSETFROM:+0200
TZOFFSETTO:+0100
TZNAME:CET
DTSTART:20241027T010000
END:STANDARD
END:VTIMEZONE
BEGIN:VEVENT
DTSTART;VALUE=DATE:20231227
DTEND;VALUE=DATE:20231231
DTSTAMP:20260420T003613
CREATED:20231125T160557Z
LAST-MODIFIED:20231125T160654Z
UID:30896-1703635200-1703980799@lesateliersdelaccordeon.be
SUMMARY:Marinette - participation aux Rencontres d'hivers du Grand Bal de l'Europe - Gennetines (France)
DESCRIPTION:Cette année\, j’aurai l’occasion de passer du temps aux d’hivers du Grand Bal de l’Europe\, et de partager grâce à un atelier de danse wallonne en collaboration avec Gabriel Lenoir.
URL:https://lesateliersdelaccordeon.be/event/marinette-participation-aux-rencontres-dhivers-du-grand-bal-de-leurope-gennetines-france/
LOCATION:Grand Bal de l’Europe\, Les Gauthiers\, route de Trévol 13\, Gennetines\, France
CATEGORIES:Festival
ATTACH;FMTTYPE=image/jpeg:https://lesateliersdelaccordeon.be/wp-content/uploads/2022/01/Marinette.jpg
END:VEVENT
END:VCALENDAR